BEGIN:VCALENDAR
VERSION:2.0
PRODID:-//Unis Vers L&#039;art : Ateliers loisirs créatifs et décorations artisanales - ECPv4.6.21//NONSGML v1.0//EN
CALSCALE:GREGORIAN
METHOD:PUBLISH
X-WR-CALNAME:Unis Vers L&#039;art : Ateliers loisirs créatifs et décorations artisanales
X-ORIGINAL-URL:https://unisverslart.fr
X-WR-CALDESC:Events for Unis Vers L&#039;art : Ateliers loisirs créatifs et décorations artisanales
BEGIN:VEVENT
DTSTART;TZID=Europe/Paris:20190515T140000
DTEND;TZID=Europe/Paris:20190515T180000
DTSTAMP:20260423T211848
CREATED:20190513T062156Z
LAST-MODIFIED:20190513T062244Z
UID:1710-1557928800-1557943200@unisverslart.fr
SUMMARY:Atelier : 5 activités proposées
DESCRIPTION:Choisis ton atelier dans la liste proposée : \n~ Chenille sur sa feuille (de 3 à 11 ans). \n~ Marque page (de 7 à 11 ans). \n~ Bracelet Brésilien (de 8 à 11 ans). \n~ Puces en perles ( de 5 à 11 ans). \n~ Abeille rigolote pour le jardin (de 5 à 11 ans). \nActivité d’une heure pour les enfants. \nMatériel fourni. \nHoraires proposés :  14h/15h ou 15h30/16h30 ou 17h/18h \n
URL:https://unisverslart.fr/evenement/1710/
LOCATION:2a rue du coteau\, Charbuy\, Yonne\, 89113\, France
CATEGORIES:Ateliers pour enfants
END:VEVENT
END:VCALENDAR