BEGIN:VCALENDAR
VERSION:2.0
PRODID:-//Unis Vers L&#039;art : Ateliers loisirs créatifs et décorations artisanales - ECPv4.6.21//NONSGML v1.0//EN
CALSCALE:GREGORIAN
METHOD:PUBLISH
X-WR-CALNAME:Unis Vers L&#039;art : Ateliers loisirs créatifs et décorations artisanales
X-ORIGINAL-URL:https://unisverslart.fr
X-WR-CALDESC:Events for Unis Vers L&#039;art : Ateliers loisirs créatifs et décorations artisanales
BEGIN:VEVENT
DTSTART;TZID=Europe/Paris:20191212T170000
DTEND;TZID=Europe/Paris:20191212T190000
DTSTAMP:20260425T212954
CREATED:20191209T083049Z
LAST-MODIFIED:20191209T083108Z
UID:3031-1576170000-1576177200@unisverslart.fr
SUMMARY:Atelier Loisirs Créatifs
DESCRIPTION:Ateliers au choix : Les Décorations du sapin \nActivité d’une heure pour les enfants. \nMatériel fourni. \nLieu : L’atelier de Charbuy \nHoraires proposés :  17h/19h (possibilité d’aller chercher les enfants à l’école). \n
URL:https://unisverslart.fr/evenement/3031/
LOCATION:2a rue du coteau\, Charbuy\, Yonne\, 89113\, France
CATEGORIES:Ateliers pour enfants
ATTACH;FMTTYPE=image/jpeg:https://unisverslart.fr/wp-content/uploads/2019/12/deco2.jpg
END:VEVENT
END:VCALENDAR