BEGIN:VCALENDAR
VERSION:2.0
PRODID:-//Unis Vers L&#039;art : Ateliers loisirs créatifs et décorations artisanales - ECPv4.6.21//NONSGML v1.0//EN
CALSCALE:GREGORIAN
METHOD:PUBLISH
X-WR-CALNAME:Unis Vers L&#039;art : Ateliers loisirs créatifs et décorations artisanales
X-ORIGINAL-URL:https://unisverslart.fr
X-WR-CALDESC:Events for Unis Vers L&#039;art : Ateliers loisirs créatifs et décorations artisanales
BEGIN:VEVENT
DTSTART;TZID=Europe/Paris:20191214T100000
DTEND;TZID=Europe/Paris:20191214T123000
DTSTAMP:20260425T150920
CREATED:20191209T083931Z
LAST-MODIFIED:20191209T083950Z
UID:3043-1576317600-1576326600@unisverslart.fr
SUMMARY:Atelier Loisirs Créatifs
DESCRIPTION:Ateliers au choix : Les Décorations du sapin \nMatériel fourni. \nLieu : La boutique d’Auxerre. \nHoraires proposés :  atelier d’une heure proposée le matin. \n
URL:https://unisverslart.fr/evenement/3043/
LOCATION:28 rue Fécauderie\, Auxerre\, Yonne\, 89000
CATEGORIES:Ateliers pour enfants
ATTACH;FMTTYPE=image/jpeg:https://unisverslart.fr/wp-content/uploads/2019/12/déco-noel.jpg
END:VEVENT
END:VCALENDAR