BEGIN:VCALENDAR
VERSION:2.0
PRODID:-//Unis Vers L&#039;art : Ateliers loisirs créatifs et décorations artisanales - ECPv4.6.21//NONSGML v1.0//EN
CALSCALE:GREGORIAN
METHOD:PUBLISH
X-WR-CALNAME:Unis Vers L&#039;art : Ateliers loisirs créatifs et décorations artisanales
X-ORIGINAL-URL:https://unisverslart.fr
X-WR-CALDESC:Events for Unis Vers L&#039;art : Ateliers loisirs créatifs et décorations artisanales
BEGIN:VEVENT
DTSTART;TZID=Europe/Paris:20200102T140000
DTEND;TZID=Europe/Paris:20200102T180000
DTSTAMP:20260422T222214
CREATED:20191227T174928Z
LAST-MODIFIED:20191227T174951Z
UID:3081-1577973600-1577988000@unisverslart.fr
SUMMARY:Atelier Loisirs Créatifs
DESCRIPTION:~ Sous la neige (à partir de 3 ans). \n~ Couronne des rois en papier (à partir de 5 ans). \n~ Bonhomme de neige skieur (à partir de 7 ans). \n~ Petit personnage en macramé (à partir de 9 ans). \n~ Origami (à partir de 6 ans). \nMatériel fourni. \nLieu : L’atelier de Charbuy \nHoraires proposés :  14h/15h ou 15h30/16h30 ou 17h/18h. \n
URL:https://unisverslart.fr/evenement/3081/
LOCATION:2a rue du coteau\, Charbuy\, Yonne\, 89113\, France
CATEGORIES:Ateliers pour enfants
END:VEVENT
END:VCALENDAR