BEGIN:VCALENDAR
VERSION:2.0
PRODID:-//Unis Vers L&#039;art : Ateliers loisirs créatifs et décorations artisanales - ECPv4.6.21//NONSGML v1.0//EN
CALSCALE:GREGORIAN
METHOD:PUBLISH
X-WR-CALNAME:Unis Vers L&#039;art : Ateliers loisirs créatifs et décorations artisanales
X-ORIGINAL-URL:https://unisverslart.fr
X-WR-CALDESC:Events for Unis Vers L&#039;art : Ateliers loisirs créatifs et décorations artisanales
BEGIN:VEVENT
DTSTART;VALUE=DATE:20200101
DTEND;VALUE=DATE:20200102
DTSTAMP:20260423T000903
CREATED:20191227T174653Z
LAST-MODIFIED:20191227T174732Z
UID:3076-1577836800-1577923199@unisverslart.fr
SUMMARY:Férié
DESCRIPTION:Férié \n
URL:https://unisverslart.fr/evenement/ferie-2/
END:VEVENT
END:VCALENDAR