BEGIN:VCALENDAR
VERSION:2.0
PRODID:-//Unis Vers L&#039;art : Ateliers loisirs créatifs et décorations artisanales - ECPv4.6.21//NONSGML v1.0//EN
CALSCALE:GREGORIAN
METHOD:PUBLISH
X-WR-CALNAME:Unis Vers L&#039;art : Ateliers loisirs créatifs et décorations artisanales
X-ORIGINAL-URL:https://unisverslart.fr
X-WR-CALDESC:Events for Unis Vers L&#039;art : Ateliers loisirs créatifs et décorations artisanales
BEGIN:VEVENT
DTSTART;TZID=Europe/Paris:20190412T100000
DTEND;TZID=Europe/Paris:20190412T110000
DTSTAMP:20260425T180621
CREATED:20190321T080119Z
LAST-MODIFIED:20190321T080143Z
UID:1551-1555063200-1555066800@unisverslart.fr
SUMMARY:Atelier : 5 activités proposées
DESCRIPTION:Choisis ton atelier dans la liste proposée : \n~ Cygne aux plumes colorées (de 4 à 11 ans). \n~ Libellule (de 5 à 11 ans). \n~ Atelier terre : poule\, chat ou escargot (de 4 à 11 ans). \n~ Perles à repasser ( de 5 à 11 ans). \n~ Oiseaux sculptés en fil de fer (de 7 à 11 ans). \n  \nActivité d’une heure pour les enfants. \nMatériel fourni. \nHoraires proposés :  10h/11h. \n
URL:https://unisverslart.fr/evenement/1551/
LOCATION:14 rue Fourier\, Auxerre\, Yonne\, 89000\, France
CATEGORIES:Ateliers pour enfants
END:VEVENT
BEGIN:VEVENT
DTSTART;TZID=Europe/Paris:20190412T170000
DTEND;TZID=Europe/Paris:20190412T180000
DTSTAMP:20260425T180621
CREATED:20190321T080232Z
LAST-MODIFIED:20190321T080252Z
UID:1554-1555088400-1555092000@unisverslart.fr
SUMMARY:Atelier : 5 activités proposées
DESCRIPTION:Choisis ton atelier dans la liste proposée : \n~ Cygne aux plumes colorées (de 4 à 11 ans). \n~ Libellule (de 5 à 11 ans). \n~ Atelier terre : poule\, chat ou escargot (de 4 à 11 ans). \n~ Perles à repasser ( de 5 à 11 ans). \n~ Oiseaux sculptés en fil de fer (de 7 à 11 ans). \n  \nActivité d’une heure pour les enfants. \nMatériel fourni. \nHoraires proposés : 17h/18h (possibilité d’aller chercher les enfants à l’école). \n
URL:https://unisverslart.fr/evenement/1554/
LOCATION:2a rue du coteau\, Charbuy\, Yonne\, 89113\, France
CATEGORIES:Ateliers pour enfants
END:VEVENT
END:VCALENDAR