BEGIN:VCALENDAR
VERSION:2.0
PRODID:-//Unis Vers L&#039;art : Ateliers loisirs créatifs et décorations artisanales - ECPv4.6.21//NONSGML v1.0//EN
CALSCALE:GREGORIAN
METHOD:PUBLISH
X-WR-CALNAME:Unis Vers L&#039;art : Ateliers loisirs créatifs et décorations artisanales
X-ORIGINAL-URL:https://unisverslart.fr
X-WR-CALDESC:Events for Unis Vers L&#039;art : Ateliers loisirs créatifs et décorations artisanales
BEGIN:VEVENT
DTSTART;TZID=Europe/Paris:20190429T100000
DTEND;TZID=Europe/Paris:20190429T110000
DTSTAMP:20260424T154055
CREATED:20190428T143839Z
LAST-MODIFIED:20190428T143902Z
UID:1624-1556532000-1556535600@unisverslart.fr
SUMMARY:Atelier : 5 activités proposées
DESCRIPTION:Choisis ton atelier dans la liste proposée : \n~ Chien pompons (de 8 à 11 ans). \n~ Oiseau du printemps (de 5 à 11 ans). \n~ Paon de coquillage avec pâte à modeler maison (de 3 à 11 ans). \n~ Grande Fleur “sourire” en papier ( de 5 à 11 ans). \n~ Attrape rêve “Licorne” (de 7 à 11 ans). Prévoir deux séances. \n  \nActivité d’une heure pour les enfants. \nMatériel fourni. \nHoraires proposés :  10h/11h. \n
URL:https://unisverslart.fr/evenement/1624/
LOCATION:14 rue Fourier\, Auxerre\, Yonne\, 89000\, France
CATEGORIES:Ateliers pour enfants
END:VEVENT
BEGIN:VEVENT
DTSTART;TZID=Europe/Paris:20190429T170000
DTEND;TZID=Europe/Paris:20190429T180000
DTSTAMP:20260424T154055
CREATED:20190428T143951Z
LAST-MODIFIED:20190428T144053Z
UID:1628-1556557200-1556560800@unisverslart.fr
SUMMARY:Atelier : 5 activités proposées
DESCRIPTION:Choisis ton atelier dans la liste proposée : \n~ Chien pompons (de 8 à 11 ans). \n~ Oiseau du printemps (de 5 à 11 ans). \n~ Paon de coquillage avec pâte à modeler maison (de 3 à 11 ans). \n~ Grande Fleur “sourire” en papier ( de 5 à 11 ans). \n~ Attrape rêve “Licorne” (de 7 à 11 ans). Prévoir deux séances. \n  \nActivité d’une heure pour les enfants. \nMatériel fourni. \nHoraires proposés :  17h/18h (possibilité d’aller chercher les enfants à l’école). \n
URL:https://unisverslart.fr/evenement/1628/
LOCATION:2a rue du coteau\, Charbuy\, Yonne\, 89113\, France
CATEGORIES:Ateliers pour enfants
END:VEVENT
END:VCALENDAR