BEGIN:VCALENDAR
VERSION:2.0
PRODID:-//Unis Vers L&#039;art : Ateliers loisirs créatifs et décorations artisanales - ECPv4.6.21//NONSGML v1.0//EN
CALSCALE:GREGORIAN
METHOD:PUBLISH
X-WR-CALNAME:Unis Vers L&#039;art : Ateliers loisirs créatifs et décorations artisanales
X-ORIGINAL-URL:https://unisverslart.fr
X-WR-CALDESC:Events for Unis Vers L&#039;art : Ateliers loisirs créatifs et décorations artisanales
BEGIN:VEVENT
DTSTART;TZID=Europe/Paris:20191124T100000
DTEND;TZID=Europe/Paris:20191124T180000
DTSTAMP:20260425T131259
CREATED:20191121T094836Z
LAST-MODIFIED:20191123T154714Z
UID:2927-1574589600-1574618400@unisverslart.fr
SUMMARY:Marché de Noël de Lindry
DESCRIPTION:J’expose avec quelques une de mes créations de décorations artisanales au marché de Noël de Lindry le dimanche 24 novembre 2019 de 9H00 à 18H00 (au Foyer Communal ). \nAu programme de cette journée : de nombreux exposants de gastronomie\, vin\, champagne\, cadeaux\, bijoux\, décorations etc\nArrivée du père noël en calèche à 15 h avec ses papillotes\nTours de calèche gratuits\nRestauration buvette \n
URL:https://unisverslart.fr/evenement/marche-de-noel-de-lindry/
CATEGORIES:Foires
END:VEVENT
END:VCALENDAR